BEGIN:VCALENDAR
VERSION:2.0
PRODID:-//AFA - ECPv5.16.4//NONSGML v1.0//EN
CALSCALE:GREGORIAN
METHOD:PUBLISH
X-WR-CALNAME:AFA
X-ORIGINAL-URL:https://africaarmwrestling.com
X-WR-CALDESC:Events for AFA
REFRESH-INTERVAL;VALUE=DURATION:PT1H
X-Robots-Tag:noindex
X-PUBLISHED-TTL:PT1H
BEGIN:VTIMEZONE
TZID:UTC
BEGIN:STANDARD
TZOFFSETFROM:+0000
TZOFFSETTO:+0000
TZNAME:UTC
DTSTART:20160101T000000
END:STANDARD
END:VTIMEZONE
BEGIN:VEVENT
DTSTART;VALUE=DATE:20160823
DTEND;VALUE=DATE:20191116
DTSTAMP:20260421T175128
CREATED:20200520T124846Z
LAST-MODIFIED:20200529T131647Z
UID:2276-1471910400-1573862399@africaarmwrestling.com
SUMMARY:AAC 9Th Edition - 2018
DESCRIPTION:Ghana hosted the 2018 edition of the Africa Armwrestling Championship at the Hathramani Hall of the Accra Sports from July 26-29\, 2018. \nThe Championship which was graced by top sports officials in Ghana and the Secretary of the World Armwrestling Federation was dubbed a mini-world Championships. \nThe host\, Ghana won with a total of 88 medals\, followed by Nigeria – 11 and Mali – 10 \nResults Attached
URL:https://africaarmwrestling.com/event/aac-9th-edition-2018/
CATEGORIES:Africa Armwrestling Championship,Championship
ATTACH;FMTTYPE=image/jpeg:https://africaarmwrestling.com/wp-content/uploads/2018/08/EC9BC8D6-6F5C-406F-9629-47CE80E58504.jpeg
END:VEVENT
END:VCALENDAR