BEGIN:VCALENDAR
VERSION:2.0
PRODID:-//AFA - ECPv5.16.4//NONSGML v1.0//EN
CALSCALE:GREGORIAN
METHOD:PUBLISH
X-WR-CALNAME:AFA
X-ORIGINAL-URL:https://africaarmwrestling.com
X-WR-CALDESC:Events for AFA
REFRESH-INTERVAL;VALUE=DURATION:PT1H
X-Robots-Tag:noindex
X-PUBLISHED-TTL:PT1H
BEGIN:VTIMEZONE
TZID:UTC
BEGIN:STANDARD
TZOFFSETFROM:+0000
TZOFFSETTO:+0000
TZNAME:UTC
DTSTART:20160101T000000
END:STANDARD
END:VTIMEZONE
BEGIN:VEVENT
DTSTART;TZID=UTC:20160823T080000
DTEND;TZID=UTC:20171215T105900
DTSTAMP:20260420T073741
CREATED:20200520T124745Z
LAST-MODIFIED:20200604T163552Z
UID:2260-1471939200-1513335540@africaarmwrestling.com
SUMMARY:AAC 10th Edition - 2019
DESCRIPTION:The 2019 Africa Armwrestling Championship was hosted by the Powerhouse of Africa Armwrestling\, Mali from July 11-14 at the Palais Des Sports Samatiu Maigas Stadium in Bamako where the federal Sports Minister was the guest of honour. \nHost Mali won with a total of 122 medals followed by Egypt – 21 and Ghana – 19.
URL:https://africaarmwrestling.com/event/aac-10th-edition-2019/
CATEGORIES:Championship,Competition
ATTACH;FMTTYPE=image/jpeg:https://africaarmwrestling.com/wp-content/uploads/2020/05/win.jpeg
END:VEVENT
END:VCALENDAR